BEGIN:VCALENDAR
VERSION:2.0
PRODID:-//New Mexico Water Dialogue - ECPv6.15.20//NONSGML v1.0//EN
CALSCALE:GREGORIAN
METHOD:PUBLISH
X-WR-CALNAME:New Mexico Water Dialogue
X-ORIGINAL-URL:https://nmwaterdialogue.org
X-WR-CALDESC:Events for New Mexico Water Dialogue
REFRESH-INTERVAL;VALUE=DURATION:PT1H
X-Robots-Tag:noindex
X-PUBLISHED-TTL:PT1H
BEGIN:VTIMEZONE
TZID:America/Denver
BEGIN:DAYLIGHT
TZOFFSETFROM:-0700
TZOFFSETTO:-0600
TZNAME:MDT
DTSTART:20170312T090000
END:DAYLIGHT
BEGIN:STANDARD
TZOFFSETFROM:-0600
TZOFFSETTO:-0700
TZNAME:MST
DTSTART:20171105T080000
END:STANDARD
BEGIN:DAYLIGHT
TZOFFSETFROM:-0700
TZOFFSETTO:-0600
TZNAME:MDT
DTSTART:20180311T090000
END:DAYLIGHT
BEGIN:STANDARD
TZOFFSETFROM:-0600
TZOFFSETTO:-0700
TZNAME:MST
DTSTART:20181104T080000
END:STANDARD
BEGIN:DAYLIGHT
TZOFFSETFROM:-0700
TZOFFSETTO:-0600
TZNAME:MDT
DTSTART:20190310T090000
END:DAYLIGHT
BEGIN:STANDARD
TZOFFSETFROM:-0600
TZOFFSETTO:-0700
TZNAME:MST
DTSTART:20191103T080000
END:STANDARD
END:VTIMEZONE
BEGIN:VEVENT
DTSTART;TZID=America/Denver:20180809T120000
DTEND;TZID=America/Denver:20180809T150000
DTSTAMP:20260420T134234
CREATED:20191125T193045Z
LAST-MODIFIED:20191125T194549Z
UID:387-1533816000-1533826800@nmwaterdialogue.org
SUMMARY:Dialogue Board meeting Agenda - August 9\, 2018
DESCRIPTION:Regular meeting: planning for 25th ASM \n\n\n\nTeleconference: Toll-free number: +1 (866) 324-4184\, access code: 7916863  \n\n\n\nToll number: +1 (216) 706-7032\, access code: 7916863 \n\n\n\nAGENDA  \n\n\n\nIntroductions  10:00 AMAnnouncementsApproval of the Agenda  Approval of Meeting Minutes (July 2018)Approval of Financial Statements (through June 2018)25th Annual Statewide Dialogue Meeting – Thursday\, January 10\, 2019ThemesTopicsPanelistsPlanning AssistanceOtherState Water Plan – Comments extended to August 25thUpdate and Endorsement of ‘Making the Case for Change’ report prepared by GSG in response to HM1 (2017)Administrative TasksWebsite/ITUpdates from Board Members/Regions/Tribes (time pending)\n\n\n\nNext Meeting: (Date\, time and location TBA) \n\n\n\nDirections to meeting location: Stay on I-25 N until you get to the Alameda Blvd exit. Get off this exit and head west (left turn if coming from south. Then get in the left lane and turn left on Jefferson St. Heading south now\, the building will be on your right immediately after Dions. The conference room is in the building closest to Jefferson Street. \n\n\n\nRelated content \n\n\n\nBoard meeting minutes – July 12\, 2018 \n\n\n\nLucy Moore’s notes on planning for 25th Annual Statewide Meeting \n\n\n\nFinancials – June 2018
URL:https://nmwaterdialogue.org/event/dialogue-board-meeting-agenda-august-9-2018/
CATEGORIES:Board Meeting
END:VEVENT
BEGIN:VEVENT
DTSTART;TZID=America/Denver:20180712T120000
DTEND;TZID=America/Denver:20180712T150000
DTSTAMP:20260420T134234
CREATED:20191125T192925Z
LAST-MODIFIED:20191125T194521Z
UID:385-1531396800-1531407600@nmwaterdialogue.org
SUMMARY:Dialogue Board meeting Agenda - July 12\, 2018
DESCRIPTION:Teleconference: Toll-free number: +1 (866) 324-4184\, access code: 7916863  \n\n\n\nToll number: +1 (216) 706-7032\, access code: 7916863  \n\n\n\nRegular meeting; planning for 25th Annual Statewide Meeting January 10\, 2019 \n\n\n\nAGENDA  \n\n\n\nIntroductions  10:00 AMAnnouncementsApproval of the Agenda  Approval of Meeting Minutes (June 2018)Approval of Financial Statements (through May 2018)25th Annual Statewide Dialogue Meeting – Thursday\, January 10\, 2019ThemesTopicsPanelistsPlanning AssistanceOtherState Water Plan – Comments DueEndorsement of ‘Making the Case for Change’ report prepared by GSG in response to HM1 (2017)Administrative TasksBylawsWebsite/ITUpdates from Board Members/Regions/Tribes (time pending)\n\n\n\nNext Meeting: (Date\, time and location TBA) \n\n\n\nDirections to meeting location: Stay on I-25 N until you get to the Alameda Blvd exit. Get off this exit and head west (left turn if coming from south. Then get in the left lane and turn left on Jefferson St. Heading south now\, the building will be on your right immediately after Dions. The conference room is in the building closest to Jefferson Street. \n\n\n\nRelated content \n\n\n\nFinancials – May 2018 \n\n\n\nBoard meeting minutes – June 14\, 2018 
URL:https://nmwaterdialogue.org/event/dialogue-board-meeting-agenda-july-12-2018/
LOCATION:WOOD. Engineering\, 8519 Jefferson St NE\, Albuquerque\, NM\, 87113
CATEGORIES:Board Meeting
END:VEVENT
BEGIN:VEVENT
DTSTART;TZID=America/Denver:20180614T120000
DTEND;TZID=America/Denver:20180614T150000
DTSTAMP:20260420T134234
CREATED:20191125T192746Z
LAST-MODIFIED:20191125T194503Z
UID:383-1528977600-1528988400@nmwaterdialogue.org
SUMMARY:Dialogue Board meeting Agenda - June 14\, 2018
DESCRIPTION:Regular Board meeting \n\n\n\nTeleconference: 1 866 324 4184    \n\n\n\nParticipant passcode: 6776296# \n\n\n\nWebinar: NONE \n\n\n\nAGENDA   \n\n\n\nIntroductions  10:00 AMAnnouncementsApproval of the Agenda  Approval of Meeting Minutes (May2018)Approval of Financial Statements Annual Meeting – Thursday\, January 10\, 2019ThemesTopicsPanelistsOtherAdministrative TasksCommittee frameworkWebsiteUpdates from Board Members/Regions/Tribes (time pending)\n\n\n\nNext Meeting: (Date\, time and location TBA) \n\n\n\nDirections to meeting location: Stay on I-25 N until you get to the Alameda Blvd exit. Get off this exit and head west (left turn if coming from south. Then get in the left lane and turn left on Jefferson St. Heading south now\, the building will be on your right immediately after Dions. The conference room is in the building closest to Jefferson Street. Map on next page. \n\n\n\nRelated content \n\n\n\nBoard meeting minutes – May 10\, 2018 \n\n\n\nFinancials – April 2018 \n\n\n\nAnnual Meeting Themes and Speakers 
URL:https://nmwaterdialogue.org/event/dialogue-board-meeting-agenda-june-14-2018/
LOCATION:WOOD. Engineering\, 8519 Jefferson St NE\, Albuquerque\, NM\, 87113
CATEGORIES:Board Meeting
END:VEVENT
BEGIN:VEVENT
DTSTART;TZID=America/Denver:20180510T120000
DTEND;TZID=America/Denver:20180510T150000
DTSTAMP:20260420T134234
CREATED:20191125T192621Z
LAST-MODIFIED:20191125T194446Z
UID:381-1525953600-1525964400@nmwaterdialogue.org
SUMMARY:Dialogue Board meeting Agenda - May 10\, 2018
DESCRIPTION:Regular Board meeting with program. Location details forthcoming! \n\n\n\nAGENDA  \n\n\n\nIntroductions  10:00 AMAnnouncementsUNM Water Conference – May 17\, 2018Approval of the Agenda  Approval of Meeting Minutes (April 2018)Approval of Financial Statements (through March 2018)Annual Meeting – Thursday\, January 10\, 2019Indian Pueblo Cultural Center (IPCC) January 2019 contractAdministrative TasksDraft bylaws amendmentsOtherPresentations: Groundwater by Stacy SimmonsUpdates from Board Members/Regions/Tribes (time pending)Governance Study Group on HM1 Project (2017 House Memorial)\n\n\n\nRelated content \n\n\n\nFinancials – March 2018 \n\n\n\nBoard meeting minutes – April 12\, 2018
URL:https://nmwaterdialogue.org/event/dialogue-board-meeting-agenda-may-10-2018/
LOCATION:WOOD. Engineering\, 8519 Jefferson St NE\, Albuquerque\, NM\, 87113
CATEGORIES:Board Meeting
END:VEVENT
BEGIN:VEVENT
DTSTART;TZID=America/Denver:20180412T120000
DTEND;TZID=America/Denver:20180412T160000
DTSTAMP:20260420T134234
CREATED:20191125T192510Z
LAST-MODIFIED:20191125T194427Z
UID:379-1523534400-1523548800@nmwaterdialogue.org
SUMMARY:Dialogue Board meeting Agenda - April 12\, 2018
DESCRIPTION:Regular business meeting with program \n\n\n\nJoin meeting from your computer\, tablet or smartphone. https://global.gotomeeting.com/join/268034269 \n\n\n\nYou can also dial in using your phone: United States: +1 (872) 240-3412; Access Code: 268-034-269 \n\n\n\nAGENDA   \n\n\n\nIntroductions  10:00 AMAnnouncementsOur Groundwater Future\, April 26th at NM Museum of Natural HistoryOtherApproval of the Agenda  Approval of Meeting Minutes (March 2018)Approval of Financial Statements (February 2018)Administrative TasksDraft bylaws amendmentsOtherPresentations: Groundwater by Stacy SimmonsUpdates from Board Members/Regions/Tribes (time pending)Governance Study Group on HM1 Project (2017 House Memorial)\n\n\n\nNext Meeting: (Date\, time and location TBA) \n\n\n\nRelated content \n\n\n\nBoard meeting minutes – March 8\, 2018 \n\n\n\nFinancials – February 2018
URL:https://nmwaterdialogue.org/event/dialogue-board-meeting-agenda-april-12-2018/
LOCATION:Daniel B. Stephens & Associates\, 6020 Academy Road NE\, Suite 100\, Albuquerque\, New Mexico\, 87109\, United States
CATEGORIES:Board Meeting
END:VEVENT
BEGIN:VEVENT
DTSTART;TZID=America/Denver:20180308T120000
DTEND;TZID=America/Denver:20180308T160000
DTSTAMP:20260420T134234
CREATED:20191125T192226Z
LAST-MODIFIED:20191125T194342Z
UID:372-1520510400-1520524800@nmwaterdialogue.org
SUMMARY:Dialogue Board meeting Agenda - March 8\, 2018
DESCRIPTION:Teleconference: 1-872-240-3212 Participant passcode: 475-018-285 \n\n\n\nRegular Board meeting \n\n\n\nNote: You can also join the meeting online via this Webinar link: https://global.gotomeeting.com/join/965648805  \n\n\n\nAGENDA  \n\n\n\nIntroductions  10:00 AMAnnouncementsApproval of the Agenda  Approval of Meeting Minutes (October 2017)Approval of Financial Statements (through January 2018)Annual Meeting (January 11\, 2018)Recap\n\n\n\n      7. Administrative tasks (see file “Recurring administrative tasks”) \n\n\n\n      8. Updates from Board Members/Regions/Tribes (time pending) \n\n\n\nNext Meeting: (Date\, time and location TBA) \n\n\n\nRelated content \n\n\n\nDialogue Board meeting – October 12\, 2017 \n\n\n\nFinancials – September 2017 \n\n\n\nFinancials – October 2017 \n\n\n\nFinancials – November 2017 \n\n\n\nFinancials – December 2017 \n\n\n\nFinancials – January 2018 \n\n\n\nRecurring administrative tasks
URL:https://nmwaterdialogue.org/event/dialogue-board-meeting-agenda-march-8-2018/
LOCATION:Daniel B. Stephens & Associates\, 6020 Academy Road NE\, Suite 100\, Albuquerque\, New Mexico\, 87109\, United States
CATEGORIES:Board Meeting
END:VEVENT
END:VCALENDAR